BEGIN:VCALENDAR
METHOD:PUBLISH
VERSION:2.0
PRODID:-//Eventilla iCal Syndication//NONSGML Liana//EN
BEGIN:VEVENT
UID:xO5ZX@eventilla.com
DTSTAMP:20200905T070000Z
DTSTART:20200905T070000Z
DTEND:20200906T130000Z
SUMMARY:Vaativien EA-tilanteiden koulutus (12h)
DESCRIPTION:Aikataulu:La 5.8 10-16Su 6.8 10-16Vaativien ea-tilanteiden koulutus. Kurssi sisältää hätäea\, ea1 ja ea2 opit. Koulutus on käytännön painotteinen.
LOCATION:X-Sec Group Oy\, Kalevantie 35\, 20520\, turku\, Suomi
URL:http://ilmoittaudu.xsec.fi/event/xO5ZX
END:VEVENT
END:VCALENDAR
