BEGIN:VCALENDAR
METHOD:PUBLISH
VERSION:2.0
PRODID:-//Eventilla iCal Syndication//NONSGML Liana//EN
BEGIN:VEVENT
UID:xGwl6@eventilla.com
DTSTAMP:20201107T090000Z
DTSTART:20201107T090000Z
DTEND:20201107T170000Z
SUMMARY:Järjestyksenvalvojan kertauskoulutus 8h (TKU)
DESCRIPTION:Järjestyksenvalvojan kertauskoulutus 8 h\nJärjestyksenvalvojan kertauskoulutus kahdeksan (8) oppituntia. Suoritetun kurssin jälkeen osallistuja on oikeutettu hakemaan järjestyksenvalvojakorttia poliisilta. Kortti oikeuttaa toimimaan viiden vuoden ajan järjestyksenvalvojana koko maassa.\nKoulutuksessa käydään läpi:\n\nJärjestyksenvalvojan tehtävissä toimimista\nLainsäädännön muutoksia\nJärjestyksenvalvojan toimivaltuuksia\nJokamiehen oikeuksia\nVoimankäyttöä ja turvallisuustarkastusta\nKäytännönharjoitus ja CASE-harjoituksia\n
LOCATION:Turku\, Kalevantie 35\, 20520\, Turku
URL:http://ilmoittaudu.xsec.fi/event/xGwl6
END:VEVENT
END:VCALENDAR
